Workbook
Name 公司名称: [1]供应商管理!$A$2:$A$700
Name 表_: [2]表三甲!$1:$3
Name 导线价: [3]架线附表!$M$5
Name 导线重: [3]架线附表!$E$4
Name 地网重: [3]杆塔附表!$W$13
Name 地线重: [3]架线附表!$E$17
Name 附件重: [3]附件附表!$E$53
Name 基筋重: [3]基础附表!$L$10
Name 脚栓重: [3]基础附表!$L$18
Name 金具价: [3]附件附表!$M$15
Name 全长: #REF!
Name 水泥价: [3]基础附表!$L$3
Name 水泥重: [3]基础附表!$L$2
Name 砼C15方量: [3]基础材料!$E$54
Name 砼C20方量: [3]基础材料!$G$54

Sheet 1封面
A6: =+'2签署页'!C4 -> 深圳机场边检站二栋执勤备勤宿舍家具配置项目
A7: 预算审核报告书
A8: ="报告编号:"&'2签署页'!M2 -> 报告编号:GDFX2026-400-435
A12: 广东富新建设工程咨询有限公司
A13: =+'2签署页'!C18 -> 46283

Sheet 2签署页
I1: 送审金额 | J1: 审核金额 | K1: 审减额 | L1: 审减率 | M1: 报告号
A2: 预 算 审 核 价 | I2: =+审核明细表!#REF! -> #REF! | J2: =+审核明细表!H9 -> 263420 | K2: =+I2-J2 -> #REF! | L2: =+K2/I2 -> #REF! | M2: GDFX2026-400-435
B4: 项目名称： | C4: 深圳机场边检站二栋执勤备勤宿舍家具配置项目
B5: 建设单位： | C5: 中华人民共和国深圳出入境边防检查总站
B6: 审定造价 | C6: （小写）： | D6: =+J2 -> 263420
C7: （大写）： | D7: =+D6 -> 263420
B9: 审 核 人：
B11: 复 核 人：
B13: 编制单位： | C13: 广东富新建设工程咨询有限公司 | F13: (盖公章)
B15: 法定代表人或其授权人： | E15: (签字或盖章)
B18: 编制时间： | C18: 46283

Sheet 审核明细表
A1: 预算审核明细表
A2: ="项目名称："&'2签署页'!C4 -> 项目名称：深圳机场边检站二栋执勤备勤宿舍家具配置项目
A3: 序号 | B3: 名称 | C3: 尺寸规格 | D3: 款式材质 | E3: 单位 | F3: 数量 | G3: 审核单价 | H3: 审核金额 | I3: 示意图（以最终选品为准）
A4: 1 | B4: 椅子 | C4: 370*450*890 | D4: 框架材质 实木，饰面材质 实木，油漆漆面采用环保漆 | E4: 张 | F4: 56 | G4: 220 | H4: =+G4*F4 -> 12320 | I4: =_xlfn.DISPIMG("ID_036778530B36457D966E2B5BAB375A80",1) -> =DISPIMG("ID_036778530B36457D966E2B5BAB375A80",1)
A5: 2 | B5: 书桌 | C5: 1200*600*750 | D5: 采用E0级环保优质实木板材，防火,耐磨,防刮,防污,硬度高. 表面哑光效果持久,强度高，刚性好，不变形，易清洁不褪色，比重合理，所有板材均为经防虫防腐化学处理。板材的封边带使用PP或者ABS材质，封边胶水使用PUR胶封边或者激光封边。包含机械密码锁、铝合金过线盒。 | E5: 张 | F5: 56 | G5: 500 | H5: =+G5*F5 -> 28000 | I5: =_xlfn.DISPIMG("ID_FB2E16C5F4A845CCAB5E4C000DDE24B1",1) -> =DISPIMG("ID_FB2E16C5F4A845CCAB5E4C000DDE24B1",1)
A6: 3 | B6: 衣柜 | C6: 1000*600*2100 | D6: 基材采用E0级环保优质实木板材，防火,耐磨,防污,硬度高. 表面哑光效果持久,强度高，刚性好，不变形，比重合理，所有板材均为经防虫防腐化学处理。板材的封边带使用PP或者ABS材质，封边胶水使用PUR胶封边或者激光封边。 | E6: 个 | F6: 144 | G6: 1500 | H6: =+G6*F6 -> 216000 | I6: =_xlfn.DISPIMG("ID_32BC542B5636474593E8F9581112897C",1) -> =DISPIMG("ID_32BC542B5636474593E8F9581112897C",1)
A7: 4 | B7: 床 | C7: 1.8米床 | D7: 选用优质橡木，材质硬，有细致均匀直纹，纹理平滑，并且触摸表面有着良好的质感，线条简约大方。均经过防虫，防腐化学处理，各项技术均达环保标准；油漆采用环保聚脂封闭式覆盖漆，光泽均匀,健康环保，硬度高,抗刮性强,不褪色，封闭式喷油。配置静音松木床板和床方。要求使用100％纯实木，不贴片，不用人造板，带床垫，高密针织面料；加环保棕/2.3MM高碳钢精钢独立弹簧系统。 | E7: 张 | F7: 2 | G7: 1600 | H7: =+G7*F7 -> 3200 | I7: =_xlfn.DISPIMG("ID_43EA22CBD71D4142985ADB3415E9775D",1) -> =DISPIMG("ID_43EA22CBD71D4142985ADB3415E9775D",1)
A8: 5 | B8: 床 | C8: 1.5米床 | D8: 选用优质橡木，材质硬，有细致均匀直纹，纹理平滑，并且触摸表面有着良好的质感，线条简约大方。均经过防虫，防腐化学处理，各项技术均达环保标准；油漆采用环保聚脂封闭式覆盖漆，光泽均匀,健康环保，硬度高,抗刮性强,不褪色，封闭式喷油。配置静音松木床板和床方。要求使用100％纯实木，不贴片，不用人造板，带床垫，高密针织面料；加环保棕/2.3MM高碳钢精钢独立弹簧系统。 | E8: 张 | F8: 3 | G8: 1300 | H8: =+G8*F8 -> 3900 | I8: =_xlfn.DISPIMG("ID_43EA22CBD71D4142985ADB3415E9775D",1) -> =DISPIMG("ID_43EA22CBD71D4142985ADB3415E9775D",1)
A9: 6 | B9: 合计 | H9: =SUM(H4:H8) -> 263420
